BEGIN:VCALENDAR
VERSION:2.0
PRODID:-//Orenda Soma - ECPv6.15.20//NONSGML v1.0//EN
CALSCALE:GREGORIAN
METHOD:PUBLISH
X-ORIGINAL-URL:https://orendasoma.com
X-WR-CALDESC:Évènements pour Orenda Soma
REFRESH-INTERVAL;VALUE=DURATION:PT1H
X-Robots-Tag:noindex
X-PUBLISHED-TTL:PT1H
BEGIN:VTIMEZONE
TZID:UTC
BEGIN:STANDARD
TZOFFSETFROM:+0000
TZOFFSETTO:+0000
TZNAME:UTC
DTSTART:20250101T000000
END:STANDARD
END:VTIMEZONE
BEGIN:VEVENT
DTSTART;TZID=UTC:20260411T100000
DTEND;TZID=UTC:20260411T180000
DTSTAMP:20260422T120649
CREATED:20260218T140756Z
LAST-MODIFIED:20260318T133939Z
UID:1752-1775901600-1775930400@orendasoma.com
SUMMARY:Cercle de Femmes
DESCRIPTION:
URL:https://orendasoma.com/evenement/cercles-de-femmes/
LOCATION:Orenda Soma\, 671 chemin des Escarbilles\, L'ISLE EN DODON\, 31230\, France
CATEGORIES:Ateliers
ATTACH;FMTTYPE=image/png:https://orendasoma.com/wp-content/uploads/2026/02/Cercle-de-Femmes-a-Orenda-Soma.png
END:VEVENT
END:VCALENDAR