BEGIN:VCALENDAR
VERSION:2.0
PRODID:-//Orenda Soma - ECPv6.15.20//NONSGML v1.0//EN
CALSCALE:GREGORIAN
METHOD:PUBLISH
X-ORIGINAL-URL:https://orendasoma.com
X-WR-CALDESC:Évènements pour Orenda Soma
REFRESH-INTERVAL;VALUE=DURATION:PT1H
X-Robots-Tag:noindex
X-PUBLISHED-TTL:PT1H
BEGIN:VTIMEZONE
TZID:UTC
BEGIN:STANDARD
TZOFFSETFROM:+0000
TZOFFSETTO:+0000
TZNAME:UTC
DTSTART:20250101T000000
END:STANDARD
END:VTIMEZONE
BEGIN:VEVENT
DTSTART;TZID=UTC:20260124T150000
DTEND;TZID=UTC:20260124T170000
DTSTAMP:20260424T151029
CREATED:20251125T145331Z
LAST-MODIFIED:20251125T145331Z
UID:1708-1769266800-1769274000@orendasoma.com
SUMMARY:Atelier de confection Tisane de la forêt
DESCRIPTION:
URL:https://orendasoma.com/evenement/atelier-de-confection-tisane-de-la-foret/
LOCATION:Orenda Soma\, 671 chemin des Escarbilles\, L'ISLE EN DODON\, 31230\, France
CATEGORIES:Ateliers
ATTACH;FMTTYPE=image/jpeg:https://orendasoma.com/wp-content/uploads/2025/11/tisane.jpg
ORGANIZER;CN="C%C3%A9line Marquie":MAILTO:jardindepiona@gmail.com
END:VEVENT
END:VCALENDAR