BEGIN:VCALENDAR
VERSION:2.0
PRODID:-//Orenda Soma - ECPv6.15.20//NONSGML v1.0//EN
CALSCALE:GREGORIAN
METHOD:PUBLISH
X-WR-CALNAME:Orenda Soma
X-ORIGINAL-URL:https://orendasoma.com
X-WR-CALDESC:Évènements pour Orenda Soma
REFRESH-INTERVAL;VALUE=DURATION:PT1H
X-Robots-Tag:noindex
X-PUBLISHED-TTL:PT1H
BEGIN:VTIMEZONE
TZID:UTC
BEGIN:STANDARD
TZOFFSETFROM:+0000
TZOFFSETTO:+0000
TZNAME:UTC
DTSTART:20240101T000000
END:STANDARD
END:VTIMEZONE
BEGIN:VEVENT
DTSTART;TZID=UTC:20251220T150000
DTEND;TZID=UTC:20251220T180000
DTSTAMP:20260424T132450
CREATED:20251112T173908Z
LAST-MODIFIED:20251112T173908Z
UID:1691-1766242800-1766253600@orendasoma.com
SUMMARY:Cercle de tambours
DESCRIPTION:
URL:https://orendasoma.com/evenement/cercle-de-tambours/
LOCATION:Orenda Soma\, 671 chemin des Escarbilles\, L'ISLE EN DODON\, 31230\, France
CATEGORIES:Ateliers
ATTACH;FMTTYPE=image/jpeg:https://orendasoma.com/wp-content/uploads/2025/11/shamanic-1276759_1280.jpg
ORGANIZER;CN="Florence Prudhon":MAILTO:florence.prudhon.henry@gmail.com
END:VEVENT
END:VCALENDAR