BEGIN:VCALENDAR
VERSION:2.0
PRODID:-//Orenda Soma - ECPv6.15.20//NONSGML v1.0//EN
CALSCALE:GREGORIAN
METHOD:PUBLISH
X-WR-CALNAME:Orenda Soma
X-ORIGINAL-URL:https://orendasoma.com
X-WR-CALDESC:Évènements pour Orenda Soma
REFRESH-INTERVAL;VALUE=DURATION:PT1H
X-Robots-Tag:noindex
X-PUBLISHED-TTL:PT1H
BEGIN:VTIMEZONE
TZID:UTC
BEGIN:STANDARD
TZOFFSETFROM:+0000
TZOFFSETTO:+0000
TZNAME:UTC
DTSTART:20240101T000000
END:STANDARD
END:VTIMEZONE
BEGIN:VEVENT
DTSTART;TZID=UTC:20251115T150000
DTEND;TZID=UTC:20251115T180000
DTSTAMP:20260424T132301
CREATED:20251006T165552Z
LAST-MODIFIED:20251006T165552Z
UID:1672-1763218800-1763229600@orendasoma.com
SUMMARY:Cérémonie Cacao
DESCRIPTION:
URL:https://orendasoma.com/evenement/ceremonie-cacao-3/
LOCATION:Orenda Soma\, 671 chemin des Escarbilles\, L'ISLE EN DODON\, 31230\, France
CATEGORIES:Ateliers
ATTACH;FMTTYPE=image/jpeg:https://orendasoma.com/wp-content/uploads/2025/06/Cacao-scaled.jpg
ORGANIZER;CN="Orenda Soma":MAILTO:contact@orendasoma.com
END:VEVENT
BEGIN:VEVENT
DTSTART;TZID=UTC:20251116T100000
DTEND;TZID=UTC:20251116T170000
DTSTAMP:20260424T132301
CREATED:20251014T125839Z
LAST-MODIFIED:20251014T125839Z
UID:1676-1763287200-1763312400@orendasoma.com
SUMMARY:Cercle de femmes
DESCRIPTION:
URL:https://orendasoma.com/evenement/cercle-de-femmes-2/
LOCATION:Orenda Soma\, 671 chemin des Escarbilles\, L'ISLE EN DODON\, 31230\, France
CATEGORIES:Ateliers
ATTACH;FMTTYPE=image/jpeg:https://orendasoma.com/wp-content/uploads/2025/08/IMG-20250726-WA0027.jpg
ORGANIZER;CN="Orenda Soma":MAILTO:contact@orendasoma.com
END:VEVENT
END:VCALENDAR